BEGIN:VCALENDAR
VERSION:2.0
PRODID:-//האנגר 11 - ECPv4.9.10//NONSGML v1.0//EN
CALSCALE:GREGORIAN
METHOD:PUBLISH
X-WR-CALNAME:האנגר 11
X-ORIGINAL-URL:https://hangar11.co.il/events
X-WR-CALDESC:Events for האנגר 11
BEGIN:VTIMEZONE
TZID:Asia/Jerusalem
BEGIN:DAYLIGHT
TZOFFSETFROM:+0200
TZOFFSETTO:+0300
TZNAME:IDT
DTSTART:20220325T000000
END:DAYLIGHT
BEGIN:STANDARD
TZOFFSETFROM:+0300
TZOFFSETTO:+0200
TZNAME:IST
DTSTART:20221029T230000
END:STANDARD
END:VTIMEZONE
BEGIN:VEVENT
DTSTART;TZID=Asia/Jerusalem:20220113T210000
DTEND;TZID=Asia/Jerusalem:20220113T210000
DTSTAMP:20260425T174052
CREATED:20211121T114512Z
LAST-MODIFIED:20220215T103957Z
UID:4361-1642107600-1642107600@hangar11.co.il
SUMMARY:הדג נחש – 25 שנות יצירת היפ-הופ ציוני
DESCRIPTION:הדג נחש – אחת מלהקות ההיפ-הופ הגדולות בישראל מגיעה למופע חדש\, חגיגי ומיוחד לכבוד 25 שנות פעילות ומארחים את – אקו\, ג’ימבו ג’יי\, טדי נגוסה\, עדן דרסו ועכשיו ניתן לפרסם שגם רביד פלוטניק יצטרף למופע! \nאחרי 8 אלבומים\, כל תואר אפשרי -מלהקת השנה\, שיר השנה\, 3 פעמים ברציפות הוכתרו כלהקה האהובה ביותר על בני הנוער והחיילים\, אלבומי זהב ואלבומי פלטינה ושירים שהם חלק בלי נפרד מפס הקול הישראלי\, הדג נחש חוגגת 25 שנות היפ-הופ ציוני במופע מיוחד עם הלהיטים הגדולים!\nמאז ומתמיד הקפידו הדג נחש להרים את הראש\, להביט מסביב ביושר ולתרגם את מה שהם רואים ומרגישים לאמירה סובייקטיבית אך כנה – אמירה שעם השנים והאלבומים הפכה את הדג נחש ללהקה שההוויה הישראלית שלה היא מובהקת\, אותנטית וישירה\, וזהו גם סוד ההצלחה שלהם. \nToMix והאנגר 11 גאים להציג מופע נוסף מסדרת המופעים – הפעם שילוב בין המוסיקה האייקונית של הדג נחש לאמנים מבטיחים בסצנת אמנות הרחוב הישראלית. \n
URL:https://hangar11.co.il/events/event/%d7%94%d7%93%d7%92-%d7%a0%d7%97%d7%a9-25-%d7%a9%d7%a0%d7%95%d7%aa-%d7%99%d7%a6%d7%99%d7%a8%d7%aa-%d7%94%d7%99%d7%a4-%d7%94%d7%95%d7%a4-%d7%a6%d7%99%d7%95%d7%a0%d7%99-%d7%a2%d7%9d-%d7%90/
LOCATION:האנגר 11\, יורדי הסירה 1\, תל אביב\, Israel
CATEGORIES:גולדסטאר סאונד סיסטם,מיינסטרים,פופ ישראלי,רוק,רוק ישראלי
ATTACH;FMTTYPE=image/jpeg:https://hangar11.co.il/events/wp-content/uploads/2021/11/hadag-nahash-guests-banner-21.jpg
END:VEVENT
END:VCALENDAR