BEGIN:VCALENDAR
VERSION:2.0
PRODID:-//האנגר 11 - ECPv4.9.10//NONSGML v1.0//EN
CALSCALE:GREGORIAN
METHOD:PUBLISH
X-WR-CALNAME:האנגר 11
X-ORIGINAL-URL:https://hangar11.co.il/events
X-WR-CALDESC:Events for האנגר 11
BEGIN:VTIMEZONE
TZID:Asia/Jerusalem
BEGIN:DAYLIGHT
TZOFFSETFROM:+0200
TZOFFSETTO:+0300
TZNAME:IDT
DTSTART:20220325T000000
END:DAYLIGHT
BEGIN:STANDARD
TZOFFSETFROM:+0300
TZOFFSETTO:+0200
TZNAME:IST
DTSTART:20221029T230000
END:STANDARD
END:VTIMEZONE
BEGIN:VEVENT
DTSTART;TZID=Asia/Jerusalem:20220212T213000
DTEND;TZID=Asia/Jerusalem:20220212T213000
DTSTAMP:20260425T203141
CREATED:20220105T162550Z
LAST-MODIFIED:20220215T103505Z
UID:4427-1644701400-1644701400@hangar11.co.il
SUMMARY:אמיר דדון מארח את החברים של נטאשה
DESCRIPTION:בשנים האחרונות פרץ דדון אל מרכז התודעה הישראלית והפך להיות שם מוכר בכל בית\, שיתף פעולה עם מיטב האמנים והפך לאחד היוצרים והזמרים העסוקים והמבוקשים בישראל. עם קול גדול וטונות של סטאר קוואלטי\, להיטים רבים ואהובים ואלבומים מצליחים\, ולאחר סבב הופעות שכולו סולד אאוט\, הוא מגיע למופע מיוחד בהאנגר 11 עם אורחים מיוחדים – החברים של נטאשה! \nהמופע כולל את מיטב השירים מאלבומיו השונים :\n“בין קודש לחול” “יש אין סוף”\, “כל יום כמו נס”\, “לבחור נכון”\, “שאריות של החיים”\, “לא סתם”\, “גלים”\, “בנאדם”\, “אור גדול”\, “הרוח הטובה” ועוד… \n
URL:https://hangar11.co.il/events/event/%d7%90%d7%9e%d7%99%d7%a8-%d7%93%d7%93%d7%95%d7%9f-%d7%9e%d7%90%d7%a8%d7%97-%d7%90%d7%aa-%d7%94%d7%97%d7%91%d7%a8%d7%99%d7%9d-%d7%a9%d7%9c-%d7%a0%d7%98%d7%90%d7%a9%d7%94/
LOCATION:האנגר 11\, יורדי הסירה 1\, תל אביב\, Israel
CATEGORIES:גולדסטאר סאונד סיסטם,מיינסטרים,רוק,רוק ישראלי
ATTACH;FMTTYPE=image/jpeg:https://hangar11.co.il/events/wp-content/uploads/2022/01/amir-dadon-feb22-e1641399858593.jpg
END:VEVENT
END:VCALENDAR