BEGIN:VCALENDAR
VERSION:2.0
PRODID:-//האנגר 11 - ECPv4.9.10//NONSGML v1.0//EN
CALSCALE:GREGORIAN
METHOD:PUBLISH
X-WR-CALNAME:האנגר 11
X-ORIGINAL-URL:https://hangar11.co.il/events
X-WR-CALDESC:Events for האנגר 11
BEGIN:VTIMEZONE
TZID:Asia/Jerusalem
BEGIN:DAYLIGHT
TZOFFSETFROM:+0200
TZOFFSETTO:+0300
TZNAME:IDT
DTSTART:20220325T000000
END:DAYLIGHT
BEGIN:STANDARD
TZOFFSETFROM:+0300
TZOFFSETTO:+0200
TZNAME:IST
DTSTART:20221029T230000
END:STANDARD
END:VTIMEZONE
BEGIN:VEVENT
DTSTART;TZID=Asia/Jerusalem:20220217T210000
DTEND;TZID=Asia/Jerusalem:20220217T210000
DTSTAMP:20260425T202936
CREATED:20220105T162142Z
LAST-MODIFIED:20220216T085110Z
UID:4424-1645131600-1645131600@hangar11.co.il
SUMMARY:מרסדס בנד
DESCRIPTION:הלהקה שהפכה לתופעה\, בניצוחו של גל תורן\, מגיעה להאנגר 11 להפוך משבר חרדה קיומי למסיבה משוגעת.\nכל הלהיטים\, הפתעות ושאר מיני טרלולים\, במופע שמטריף את המדינה. \nאורח מיוחד: הפתעה! \n
URL:https://hangar11.co.il/events/event/%d7%9e%d7%a8%d7%a1%d7%93%d7%a1-%d7%91%d7%a0%d7%93/
LOCATION:האנגר 11\, יורדי הסירה 1\, תל אביב\, Israel
CATEGORIES:גולדסטאר סאונד סיסטם,מיינסטרים,רוק,רוק ישראלי
ATTACH;FMTTYPE=image/jpeg:https://hangar11.co.il/events/wp-content/uploads/2022/01/mercedes-feb22-e1641399606235.jpg
END:VEVENT
BEGIN:VEVENT
DTSTART;TZID=Asia/Jerusalem:20220217T220000
DTEND;TZID=Asia/Jerusalem:20220217T220000
DTSTAMP:20260425T202936
CREATED:20220206T155121Z
LAST-MODIFIED:20220215T103411Z
UID:4448-1645135200-1645135200@hangar11.co.il
SUMMARY:MATISSE & SADKO - By Colors Festival
DESCRIPTION:MATISSE & SADKO \nby colors festival \nאז לאחר שהנחתנו בישראל את אחד האומנים הגדולים שניגנו כאן בשנת 2021\, LOST FREQUENCIES \nפסטיבל קולורס חוזר עם אירוע אידיאם ראשון לשנת 2022 עם צמד האומנים המשגע \nMATISSE & SADKO\nצמד הענק מרוסיה ינחת בישראל עבור הופעה חד פעמית בפסטיבל אידיאם ייחודי מסוגו. מאחורי המותג המוסיקאלי מסתתרים צמד מוחות מבריק וכישרוני במיוחד אשר נחשבים לבני החסות של לא אשר מאשר מרטין גריקס\, ה-DJ  הטוב בעולם על פי מגזין "DJ MAG".  \nכשברזומה שלהם מופיעות ארבע (!) עבודות משותפות עם גריקס אשר הפכו ללהיטים בינלאומיים\, "Dragon"\, " Together"\, " Break Through The Silence" ו- " Forever" שהגיעו למספר האזנות כולל מטורף של כמעט 100\,000\,000 צפיות\, האמנים מסומנים בתור אחת ההבטחות הכי גדולות של עולם ה-EDM לשנים הקרובות. עוד תוכלו למצוא בקורות החיים המפוארים: 8 שנות פעילות עמוסות\, 7 חתימות בלייבלים הכי גדולים במוסיקה האלקטרונית ועוד אין סוף הופעות מסביב לעולם\, בין היתר על הבמות הנחשקות של ה- Tomorrowland וה- Ultra! \nלצידם ינגנו במהלך הערב: \nKOL DE CORD \nקול דה קורד (Kol De Cord) הוא דיג׳יי ומפיק מוסיקלי ואחד השמות העולים בסצינת ה- EDM בישראל ובעולם. \nבשנת 2020 זכה בתחרות של ״ארמין ואן ביורן״ ומאז הספיק לשחרר מספר קטעים ורמיקסים אשר זכו לתמיכה מהאמנים המובילים בעולם (David Guetta\, Armin Van Buuren\, Morten ועוד). \nקול דה קורד ידוע באנרגיה הגבוהה ביצירותיו ובהופעותיו. \nבפסטיבל הקרוב יגיע אלינו לסט אנרגטי ומרגש ? \n \n \n \n  \n
URL:https://hangar11.co.il/events/event/matisse-sadko/
LOCATION:אולם האנגר קלאב – מתחם האנגר 11\, אולם הפדרציה\, נמל תל אביב\, תל אביב
CATEGORIES:חו"ל,מסיבה
ATTACH;FMTTYPE=image/jpeg:https://hangar11.co.il/events/wp-content/uploads/2022/02/Cover-MATISSESADKO-2-e1644162672760.jpg
GEO:32.0964825;34.7732737
X-APPLE-STRUCTURED-LOCATION;VALUE=URI;X-ADDRESS=אולם האנגר קלאב – מתחם האנגר 11 אולם הפדרציה נמל תל אביב תל אביב;X-APPLE-RADIUS=500;X-TITLE=אולם הפדרציה\, נמל תל אביב:geo:34.7732737,32.0964825
END:VEVENT
END:VCALENDAR