BEGIN:VCALENDAR
VERSION:2.0
PRODID:-//האנגר 11 - ECPv4.9.10//NONSGML v1.0//EN
CALSCALE:GREGORIAN
METHOD:PUBLISH
X-WR-CALNAME:האנגר 11
X-ORIGINAL-URL:https://hangar11.co.il/events
X-WR-CALDESC:Events for האנגר 11
BEGIN:VTIMEZONE
TZID:Asia/Jerusalem
BEGIN:DAYLIGHT
TZOFFSETFROM:+0200
TZOFFSETTO:+0300
TZNAME:IDT
DTSTART:20220325T000000
END:DAYLIGHT
BEGIN:STANDARD
TZOFFSETFROM:+0300
TZOFFSETTO:+0200
TZNAME:IST
DTSTART:20221029T230000
END:STANDARD
END:VTIMEZONE
BEGIN:VEVENT
DTSTART;TZID=Asia/Jerusalem:20220324T203000
DTEND;TZID=Asia/Jerusalem:20220324T203000
DTSTAMP:20260425T232638
CREATED:20220208T094634Z
LAST-MODIFIED:20220215T102707Z
UID:4495-1648153800-1648153800@hangar11.co.il
SUMMARY:מוניקה סקס - חוגגת 30 בלילה של הופעות
DESCRIPTION:שלושים שנה למוניקה סקס זה שלושים שנה לחברות\, לאמון הדדי\, לכיף ולסבל\, ליצירה ביחד.\nזה שלושים שנה לאנשים שהולכים איתנו ושרים איתנו את השירים שלנו למרות שחלק מהם אפילו לא נולדו לפני שלושים שנה\,\nזו הזכות הגדולה לראות אנשים נהנים ומתרגשים מול העיניים שלנו בעבודה שלנו.\nזה שלושים שנה למשהו בעולם שבו דברים נבנים כדי להתקלקל אחרי שנתיים\, ובעינינו זו סיבה לחגיגה עם להקות אהובות שהלכו איתנו דרך\, ועוד אחת צעירה..\nהזאבות\nקרח תשע\nשייגעצ \n
URL:https://hangar11.co.il/events/event/%d7%9e%d7%95%d7%a0%d7%99%d7%a7%d7%94-%d7%a1%d7%a7%d7%a1-%d7%97%d7%95%d7%92%d7%92%d7%aa-30-%d7%91%d7%9c%d7%99%d7%9c%d7%94-%d7%a9%d7%9c-%d7%94%d7%95%d7%a4%d7%a2%d7%95%d7%aa/
LOCATION:האנגר 11\, יורדי הסירה 1\, תל אביב\, Israel
CATEGORIES:הזאבות,מוניקה סקס,מוניקה סקס חוגגת 30 בלילה של הופעות,קרח תשע,רוק,רוק ישראלי,שייגעצ
ATTACH;FMTTYPE=image/jpeg:https://hangar11.co.il/events/wp-content/uploads/2022/02/hangar_1200_650.jpg
END:VEVENT
END:VCALENDAR