BEGIN:VCALENDAR
VERSION:2.0
PRODID:-//האנגר 11 - ECPv4.9.10//NONSGML v1.0//EN
CALSCALE:GREGORIAN
METHOD:PUBLISH
X-WR-CALNAME:האנגר 11
X-ORIGINAL-URL:https://hangar11.co.il/events
X-WR-CALDESC:Events for האנגר 11
BEGIN:VTIMEZONE
TZID:Asia/Jerusalem
BEGIN:DAYLIGHT
TZOFFSETFROM:+0200
TZOFFSETTO:+0300
TZNAME:IDT
DTSTART:20220325T000000
END:DAYLIGHT
BEGIN:STANDARD
TZOFFSETFROM:+0300
TZOFFSETTO:+0200
TZNAME:IST
DTSTART:20221029T230000
END:STANDARD
END:VTIMEZONE
BEGIN:VEVENT
DTSTART;TZID=Asia/Jerusalem:20220405T100000
DTEND;TZID=Asia/Jerusalem:20220405T100000
DTSTAMP:20260426T020249
CREATED:20220313T175346Z
LAST-MODIFIED:20220314T082636Z
UID:4646-1649152800-1649152800@hangar11.co.il
SUMMARY:Kesh Limited
DESCRIPTION:
URL:https://hangar11.co.il/events/event/kesh-limited-2022/
LOCATION:האנגר 11\, יורדי הסירה 1\, תל אביב\, Israel
CATEGORIES:שבוע האופנה 2022
ATTACH;FMTTYPE=image/jpeg:https://hangar11.co.il/events/wp-content/uploads/2022/03/Hangar11_logos_202212-1-e1647246333857.jpg
END:VEVENT
BEGIN:VEVENT
DTSTART;TZID=Asia/Jerusalem:20220405T120000
DTEND;TZID=Asia/Jerusalem:20220405T120000
DTSTAMP:20260426T020249
CREATED:20220313T175209Z
LAST-MODIFIED:20220315T191644Z
UID:4642-1649160000-1649160000@hangar11.co.il
SUMMARY:David Weksler
DESCRIPTION:
URL:https://hangar11.co.il/events/event/david-weksler-2022/
LOCATION:האנגר 11\, יורדי הסירה 1\, תל אביב\, Israel
CATEGORIES:שבוע האופנה 2022
ATTACH;FMTTYPE=image/jpeg:https://hangar11.co.il/events/wp-content/uploads/2022/03/Hangar11_logos_202213-1-e1647246290117.jpg
END:VEVENT
BEGIN:VEVENT
DTSTART;TZID=Asia/Jerusalem:20220405T140000
DTEND;TZID=Asia/Jerusalem:20220405T140000
DTSTAMP:20260426T020249
CREATED:20220314T080214Z
LAST-MODIFIED:20220317T094435Z
UID:4650-1649167200-1649167200@hangar11.co.il
SUMMARY:מחלקת עיצוב אופנה של שנקר
DESCRIPTION:
URL:https://hangar11.co.il/events/event/shenkar-2022/
LOCATION:האנגר 11\, יורדי הסירה 1\, תל אביב\, Israel
CATEGORIES:שבוע האופנה 2022
ATTACH;FMTTYPE=image/jpeg:https://hangar11.co.il/events/wp-content/uploads/2022/03/Hangar11_logos_202215-2-e1647510257710.jpg
END:VEVENT
BEGIN:VEVENT
DTSTART;TZID=Asia/Jerusalem:20220405T160000
DTEND;TZID=Asia/Jerusalem:20220405T160000
DTSTAMP:20260426T020249
CREATED:20220314T080508Z
LAST-MODIFIED:20220314T080646Z
UID:4654-1649174400-1649174400@hangar11.co.il
SUMMARY:עידן לרוס
DESCRIPTION:
URL:https://hangar11.co.il/events/event/laros-2022/
LOCATION:האנגר 11\, יורדי הסירה 1\, תל אביב\, Israel
CATEGORIES:שבוע האופנה 2022
ATTACH;FMTTYPE=image/jpeg:https://hangar11.co.il/events/wp-content/uploads/2022/03/Hangar11_logos_202215-e1647245156988.jpg
END:VEVENT
BEGIN:VEVENT
DTSTART;TZID=Asia/Jerusalem:20220405T180000
DTEND;TZID=Asia/Jerusalem:20220405T180000
DTSTAMP:20260426T020249
CREATED:20220322T150305Z
LAST-MODIFIED:20220327T202348Z
UID:4725-1649181600-1649181600@hangar11.co.il
SUMMARY:UPCOMING DESIGNERS - #2
DESCRIPTION:
URL:https://hangar11.co.il/events/event/upcoming-designers-2022-2/
LOCATION:האנגר 11\, יורדי הסירה 1\, תל אביב\, Israel
CATEGORIES:שבוע האופנה 2022
ATTACH;FMTTYPE=image/jpeg:https://hangar11.co.il/events/wp-content/uploads/2022/03/Hangar11_logos_2022_upcoming2-1-e1647961439340.jpg
END:VEVENT
BEGIN:VEVENT
DTSTART;TZID=Asia/Jerusalem:20220405T200000
DTEND;TZID=Asia/Jerusalem:20220405T200000
DTSTAMP:20260426T020249
CREATED:20220314T080904Z
LAST-MODIFIED:20220314T081030Z
UID:4662-1649188800-1649188800@hangar11.co.il
SUMMARY:שי שלום
DESCRIPTION:
URL:https://hangar11.co.il/events/event/shai-shalom-2022/
LOCATION:האנגר 11\, יורדי הסירה 1\, תל אביב\, Israel
CATEGORIES:שבוע האופנה 2022
ATTACH;FMTTYPE=image/jpeg:https://hangar11.co.il/events/wp-content/uploads/2022/03/Hangar11_logos_202217-e1647245387949.jpg
END:VEVENT
END:VCALENDAR