BEGIN:VCALENDAR
VERSION:2.0
PRODID:-//האנגר 11 - ECPv4.9.10//NONSGML v1.0//EN
CALSCALE:GREGORIAN
METHOD:PUBLISH
X-WR-CALNAME:האנגר 11
X-ORIGINAL-URL:https://hangar11.co.il/events
X-WR-CALDESC:Events for האנגר 11
BEGIN:VTIMEZONE
TZID:Asia/Jerusalem
BEGIN:DAYLIGHT
TZOFFSETFROM:+0200
TZOFFSETTO:+0300
TZNAME:IDT
DTSTART:20220325T000000
END:DAYLIGHT
BEGIN:STANDARD
TZOFFSETFROM:+0300
TZOFFSETTO:+0200
TZNAME:IST
DTSTART:20221029T230000
END:STANDARD
END:VTIMEZONE
BEGIN:VEVENT
DTSTART;TZID=Asia/Jerusalem:20220406T100000
DTEND;TZID=Asia/Jerusalem:20220406T160000
DTSTAMP:20260426T020947
CREATED:20220314T081841Z
LAST-MODIFIED:20220314T082110Z
UID:4678-1649239200-1649260800@hangar11.co.il
SUMMARY:שיר גולדשטיין
DESCRIPTION:
URL:https://hangar11.co.il/events/event/shir-2022/
LOCATION:האנגר 11\, יורדי הסירה 1\, תל אביב\, Israel
CATEGORIES:שבוע האופנה 2022
ATTACH;FMTTYPE=image/jpeg:https://hangar11.co.il/events/wp-content/uploads/2022/03/Hangar11_logos_202219-e1647246014322.jpg
END:VEVENT
BEGIN:VEVENT
DTSTART;TZID=Asia/Jerusalem:20220406T120000
DTEND;TZID=Asia/Jerusalem:20220406T120000
DTSTAMP:20260426T020947
CREATED:20220314T081038Z
LAST-MODIFIED:20220314T081527Z
UID:4666-1649246400-1649246400@hangar11.co.il
SUMMARY:חנה מריליוס
DESCRIPTION:
URL:https://hangar11.co.il/events/event/chana-marelus-2022/
LOCATION:האנגר 11\, יורדי הסירה 1\, תל אביב\, Israel
CATEGORIES:שבוע האופנה 2022
ATTACH;FMTTYPE=image/jpeg:https://hangar11.co.il/events/wp-content/uploads/2022/03/Hangar11_logos_202220-e1647245663757.jpg
END:VEVENT
BEGIN:VEVENT
DTSTART;TZID=Asia/Jerusalem:20220406T140000
DTEND;TZID=Asia/Jerusalem:20220406T140000
DTSTAMP:20260426T020947
CREATED:20220314T081535Z
LAST-MODIFIED:20220314T081702Z
UID:4670-1649253600-1649253600@hangar11.co.il
SUMMARY:בננהוט
DESCRIPTION:
URL:https://hangar11.co.il/events/event/bananhot-2022/
LOCATION:האנגר 11\, יורדי הסירה 1\, תל אביב\, Israel
CATEGORIES:שבוע האופנה 2022
ATTACH;FMTTYPE=image/jpeg:https://hangar11.co.il/events/wp-content/uploads/2022/03/Hangar11_logos_202221-e1647245778891.jpg
END:VEVENT
BEGIN:VEVENT
DTSTART;TZID=Asia/Jerusalem:20220406T160000
DTEND;TZID=Asia/Jerusalem:20220406T160000
DTSTAMP:20260426T020947
CREATED:20220314T081708Z
LAST-MODIFIED:20220314T082249Z
UID:4674-1649260800-1649260800@hangar11.co.il
SUMMARY:אלון ליבנה
DESCRIPTION:
URL:https://hangar11.co.il/events/event/alon-livne-2022/
LOCATION:האנגר 11\, יורדי הסירה 1\, תל אביב\, Israel
CATEGORIES:שבוע האופנה 2022
ATTACH;FMTTYPE=image/jpeg:https://hangar11.co.il/events/wp-content/uploads/2022/03/Hangar11_logos_202222-e1647245867612.jpg
END:VEVENT
END:VCALENDAR