BEGIN:VCALENDAR
VERSION:2.0
PRODID:-//האנגר 11 - ECPv4.9.10//NONSGML v1.0//EN
CALSCALE:GREGORIAN
METHOD:PUBLISH
X-WR-CALNAME:האנגר 11
X-ORIGINAL-URL:https://hangar11.co.il/events
X-WR-CALDESC:Events for האנגר 11
BEGIN:VTIMEZONE
TZID:Asia/Jerusalem
BEGIN:DAYLIGHT
TZOFFSETFROM:+0200
TZOFFSETTO:+0300
TZNAME:IDT
DTSTART:20220325T000000
END:DAYLIGHT
BEGIN:STANDARD
TZOFFSETFROM:+0300
TZOFFSETTO:+0200
TZNAME:IST
DTSTART:20221029T230000
END:STANDARD
END:VTIMEZONE
BEGIN:VEVENT
DTSTART;VALUE=DATE:20220414
DTEND;VALUE=DATE:20220416
DTSTAMP:20260426T020612
CREATED:20220307T171816Z
LAST-MODIFIED:20220407T104557Z
UID:4583-1649912400-1649998799@hangar11.co.il
SUMMARY:MEDUZA TLV
DESCRIPTION:\nMEDUZA TLV\n\nרגע לפני ליל הסדר: MEDUZA יופיע לראשונה בישראל. לאחר ציפייה של שנים ולא מעט ניסיונות להנחית את ההרכב הבינלאומי בארץ שנדחו בעקבות אילוצי הקורונה יזכו חובבי הז'אנר לראות את היוצר המפיק והדי.ג'יי האיטלקי הלוהט\, אשר הפך לשגריר הטוב ביותר של מוזיקת הדאנס העולמית.\nלמדוזה כ-19 מיליון מאזינים חודשיים בספוטיפיי\, טראק הבכורה של ההרכב\, "PIECE OF YOUR HEART"\,  זכה להצלחה היסטרית ושבר שיאי הורדות ומכירות בכל רחבי העולם – עם קרוב ל-800 מיליון השמעות בספוטפיי והצלחה במצעדי הפזמונים ברחבי העולם. ההצלחה ההיסטרית של הטראק הובילה גם למועמדות לגראמי להקלטת הדאנס הטובה ביותר\, מה שביסס באופן סופי את מעמדה של מדוזה כאחד מהרכבי המוזיקה האלקטרונית המוערכים ביותר בעולם. \nמדוזה לא הוריד רגל מהגז ושחרר לאחר מכן את "LOSE CONTROL"\, יחד עם בקי היל\, שזכה גם הוא להצלחה אדירה עם לא פחות מ-700 מיליון השמעות בספוטפיי. מאז\, ההרכב לא מפסיק לייצר להיטי דאנס היסטריים כגון "PARADISE" ו "TELL IT TO MY HEART"\, וכן לכבוש את הבמות החמות ביותר של הסצנה האלקטרונית. \nהפקה: AAA ENTERTAINMENT \n
URL:https://hangar11.co.il/events/event/meduza-tlv/
LOCATION:האנגר 11\, יורדי הסירה 1\, תל אביב\, Israel
CATEGORIES:AAA ENTERTAINMENT,MEDUZA TLV,Megatickets,די ג'יי,חו"ל,מוזיקת דאנס,מסיבה
ATTACH;FMTTYPE=image/jpeg:https://hangar11.co.il/events/wp-content/uploads/2022/03/14.04.jpg
END:VEVENT
BEGIN:VEVENT
DTSTART;TZID=Asia/Jerusalem:20220414T213000
DTEND;TZID=Asia/Jerusalem:20220414T213000
DTSTAMP:20260426T020612
CREATED:20220221T111032Z
LAST-MODIFIED:20220407T095941Z
UID:4573-1649971800-1649971800@hangar11.co.il
SUMMARY:מורגנשטרן MORGEN SHTERN
DESCRIPTION:אחד הטראפרים המצליחים כיום של סצנה הרוסית הוא מורגנשטרן\, טראפר צעיר ומבטיח בן 23 שלא\nמפסיק להוציא להיטים ושיתופי פעולה עם הראפרים הכי מצליחים ברוסיה ואומנים מארה"ב. בתוך\nשלוש שנים מאז הוצאת האלבום הראשון הצליח מורגנשטרן להוציא שיר משותף עם ראפר אמריקאי Pump Lil\nולהיכנס במקום ה-21 ברשימת (Russia) Forbes כאחד אנשי עסקים הצעירים עד גיל 40. \nכמו כן זכה בכמה פרסים ותוארים מכובדים:\n• מוזיקאי השנה (2020) – GQ MAGAZINE\n• מועמד לאומן השנה (2020) – MTV Europe Music Awards\n• אשת השנה – (כן כן\, זאת לא טעות☺) – 2020 Topical Style Awards\nכדי להבין את עוצמת הרעש שמייצר מורגנשטרן סביבו צריך פשוט לראות את המספרים. האלבום\nהחדש שלו "מיליון דולר: האפינס" שיצא ב 24 למאי צבר 21 מיליון האזנות ביממה אחת בלבד ברשת\nחברתית "VK" (פייסבוק של הרוסים)\, ושבר שיא של כמות האזנות שהייתה אי פעם ברוסיה. אך הוא לא\nהסתפק בזה והוציא שבוע לאחר עוד אלבום חדש "מיליון דולר: ביזנס" מלא בלהיטים חמים שתפסו את\nכל הצ'רטים ברוסיה. \nהנה עוד כמה מספרים משוגעים: \n– יותר מ-10 מיליון עוקבים בערוץ יוטיוב \n– יותר מ 115 מיליון צפיות לקליפ לשיר El Problema  \n– יותר מ 117 מיליון צפיות לקליפ לשיר Cadillac \nאפילו סרטונים מטופשים שלו צוברים מינימום מיליון צפיות תוך כמה ימים ועוד עוד עוד.\nלאחרונה מורגנשטרן הוציא גם לשיר של ראפר ישראלי צוקוש "LECK" שהפך את השיר ללהיט פסיכי\nבמזרח אירופה\, וברמיקס הזה השתתף ראפר אמריקאי Fetty Wap ומפיק מקזחסטן Imanbek שזכה השנה בפרס Grammy.\nההופעה של מורגנשטרן בישראל 100% תהיה האחד האירועים הגדולים בסצנת ראפ. \nלשאלות נוספות ניתן לפנות לשירות לקוחות בטלפון מספר: 054-7417572 \n  \n
URL:https://hangar11.co.il/events/event/%d7%9e%d7%95%d7%a8%d7%92%d7%a0%d7%a9%d7%98%d7%a8%d7%9f-morgen-shtern/
LOCATION:האנגר 11\, יורדי הסירה 1\, תל אביב\, Israel
CATEGORIES:MORGENSHTERN,טראפר,מורגנשטרן,מסיבה,ראפר
ATTACH;FMTTYPE=image/jpeg:https://hangar11.co.il/events/wp-content/uploads/2022/02/11.jpg
END:VEVENT
END:VCALENDAR