BEGIN:VCALENDAR
VERSION:2.0
PRODID:-//האנגר 11 - ECPv4.9.10//NONSGML v1.0//EN
CALSCALE:GREGORIAN
METHOD:PUBLISH
X-WR-CALNAME:האנגר 11
X-ORIGINAL-URL:https://hangar11.co.il/events
X-WR-CALDESC:Events for האנגר 11
BEGIN:VTIMEZONE
TZID:Asia/Jerusalem
BEGIN:DAYLIGHT
TZOFFSETFROM:+0200
TZOFFSETTO:+0300
TZNAME:IDT
DTSTART:20220325T000000
END:DAYLIGHT
BEGIN:STANDARD
TZOFFSETFROM:+0300
TZOFFSETTO:+0200
TZNAME:IST
DTSTART:20221029T230000
END:STANDARD
END:VTIMEZONE
BEGIN:VEVENT
DTSTART;TZID=Asia/Jerusalem:20220515T190000
DTEND;TZID=Asia/Jerusalem:20220515T190000
DTSTAMP:20260426T033058
CREATED:20220321T144742Z
LAST-MODIFIED:20220501T092242Z
UID:4703-1652641200-1652641200@hangar11.co.il
SUMMARY:אירוע העשור כפר נהר הירדן
DESCRIPTION:עפים על החיים – חוגגים עשור לכפר נהר הירדן!\nכפר נהר הירדן מעניק ללא כל עלות חוויית נופש מעצימה ומהנה\, מונגשת ובטוחה\, לילדים וילדות המתמודדים עם מחלה\, לקות או מוגבלות.\nהשנה הכפר חוגג 10 שנים של פעילות\, ומזמין אתכם לחגוג יחד!\nב 15/05/2022 נביא את חוויית הכפר אל האנגר 11 בנמל תל אביב\, ונגייס תרומות ומשאבים לכפר החשוב הזה.\nיחד נוקיר את 18\,000 הילדים והילדות המתמודדים עם מחלה ובני משפחותיהם שכבר נפשו בכפר.\nהאירוע בהנחיית איילת זורר\, מופע מרכזי: עילי בוטנר וילדי החוץ\, מארחים את גלי עטרי \nכל ההכנסות מהאירוע הן לטובת המשך הפעילות החשובה והייחודית הזו.  \n
URL:https://hangar11.co.il/events/event/%d7%90%d7%99%d7%a8%d7%95%d7%a2-%d7%a2%d7%a9%d7%95%d7%a8-%d7%9b%d7%a4%d7%a8-%d7%a0%d7%94%d7%a8-%d7%94%d7%99%d7%a8%d7%93%d7%9f/
LOCATION:האנגר 11\, יורדי הסירה 1\, תל אביב\, Israel
CATEGORIES:אירוע העשור,אירוע התרמה,כפר נהר הירדן,מופע תרומה,עפים על החיים
ATTACH;FMTTYPE=image/jpeg:https://hangar11.co.il/events/wp-content/uploads/2022/03/אוונטר_עילי_1200X620.jpg
END:VEVENT
END:VCALENDAR